BEGIN:VCALENDAR
VERSION:2.0
PRODID:-//Tallahassee Genealogical Society - ECPv6.15.20//NONSGML v1.0//EN
CALSCALE:GREGORIAN
METHOD:PUBLISH
X-WR-CALNAME:Tallahassee Genealogical Society
X-ORIGINAL-URL:https://talgensoc.com
X-WR-CALDESC:Events for Tallahassee Genealogical Society
REFRESH-INTERVAL;VALUE=DURATION:PT1H
X-Robots-Tag:noindex
X-PUBLISHED-TTL:PT1H
BEGIN:VTIMEZONE
TZID:America/Halifax
BEGIN:DAYLIGHT
TZOFFSETFROM:-0400
TZOFFSETTO:-0300
TZNAME:ADT
DTSTART:20250309T060000
END:DAYLIGHT
BEGIN:STANDARD
TZOFFSETFROM:-0300
TZOFFSETTO:-0400
TZNAME:AST
DTSTART:20251102T050000
END:STANDARD
BEGIN:DAYLIGHT
TZOFFSETFROM:-0400
TZOFFSETTO:-0300
TZNAME:ADT
DTSTART:20260308T060000
END:DAYLIGHT
BEGIN:STANDARD
TZOFFSETFROM:-0300
TZOFFSETTO:-0400
TZNAME:AST
DTSTART:20261101T050000
END:STANDARD
BEGIN:DAYLIGHT
TZOFFSETFROM:-0400
TZOFFSETTO:-0300
TZNAME:ADT
DTSTART:20270314T060000
END:DAYLIGHT
BEGIN:STANDARD
TZOFFSETFROM:-0300
TZOFFSETTO:-0400
TZNAME:AST
DTSTART:20271107T050000
END:STANDARD
END:VTIMEZONE
BEGIN:VEVENT
DTSTART;TZID=America/Halifax:20260125T140000
DTEND;TZID=America/Halifax:20260125T153000
DTSTAMP:20260425T111014
CREATED:20260104T011554Z
LAST-MODIFIED:20260105T180434Z
UID:3255-1769349600-1769355000@talgensoc.com
SUMMARY:The Mayflower Society with Karen Sheffield
DESCRIPTION:At our January 25th meeting\, TGS member Karen Sheffield will speak to us about the Mayflower Society and the Mayflower Pilgrims. Karen is the Governor of the Edward Winslow Chapter\, Colony of Tallahassee\, Society of Mayflower Descendants. \nTime: Social time is at 1:30 and the program begins at 2. Location: The Fireside Room in the Parry Center\, 4949 Meandering Way\, at Westminster Oaks. (The Parry Center may also be accessed through the Maguire Center if you would like to park in the parking garage or near the Pool House.)
URL:https://talgensoc.com/event/sunday-january-25th-2026-the-mayflower-society/
ATTACH;FMTTYPE=image/png:https://talgensoc.com/wp-content/uploads/2026/01/Screenshot-2026-01-02-140011.png
END:VEVENT
BEGIN:VEVENT
DTSTART;TZID=America/Halifax:20260222T140000
DTEND;TZID=America/Halifax:20260222T153000
DTSTAMP:20260425T111014
CREATED:20260124T212841Z
LAST-MODIFIED:20260125T004111Z
UID:3264-1771768800-1771774200@talgensoc.com
SUMMARY:A Case Study of Illegitimacy in mid 1880s Indiana with Linda Mabry
DESCRIPTION:Please join TGS on Sunday\, February 22nd at 2 pm to hear Linda Mabry’s  presentation: A Case Study of Illegitimacy in mid-1880s Indiana. \nTime: Social time is at 1:30 and the program begins at 2. Location: The Fireside Room in the Parry Center\, 4949 Meandering Way\, at Westminster Oaks. \nDirections to the Parry Center\, 4949 Meandering Way\, at Westminster Oaks: Enter Westminster Oaks through the open gates on Dempsey Mayo\, and drive straight until you see the Parry Center on your left. Park in the Parry Center lot\, or the overflow lot just past\, on your left. There also are spaces at the Memory Care Center across the street for parking. The Parry Center may also be accessed through the Maguire Center if you would like to park in the parking garage or near the Pool House.
URL:https://talgensoc.com/event/a-case-study-of-illegitimacy-in-mid-1880s-indiana-with-linda-mabry/
ATTACH;FMTTYPE=image/png:https://talgensoc.com/wp-content/uploads/2026/01/Screenshot-2026-01-24-194001.png
END:VEVENT
BEGIN:VEVENT
DTSTART;TZID=America/Halifax:20260322T140000
DTEND;TZID=America/Halifax:20260322T150000
DTSTAMP:20260425T111014
CREATED:20260124T225058Z
LAST-MODIFIED:20260124T225058Z
UID:3270-1774188000-1774191600@talgensoc.com
SUMMARY:Sharing My Family History Research At Tulietaylor.com
DESCRIPTION:On March 22nd\, Tulie Taylor will talk to us about her website at tulietaylor.com and why she shares her family history research online. \nTime: Social time is at 1:30 and the program begins at 2. Location: The Fireside Room in the Parry Center\, 4949 Meandering Way\, at Westminster Oaks. \nDirections to the Parry Center\, 4949 Meandering Way\, at Westminster Oaks: Enter Westminster Oaks through the open gates on Dempsey Mayo\, and drive straight until you see the Parry Center on your left. Park in the Parry Center lot\, or the overflow lot just past\, on your left. There also are spaces at the Memory Care Center across the street for parking. The Parry Center may also be accessed through the Maguire Center if you would like to park in the parking garage or near the Pool House.
URL:https://talgensoc.com/event/sharing-my-family-history-research-at-tulietaylor-com/
ATTACH;FMTTYPE=image/png:https://talgensoc.com/wp-content/uploads/2026/01/Casey-1896-Sarah-Joe.png
END:VEVENT
BEGIN:VEVENT
DTSTART;TZID=America/Halifax:20260426T140000
DTEND;TZID=America/Halifax:20260426T153000
DTSTAMP:20260425T111014
CREATED:20260330T014316Z
LAST-MODIFIED:20260330T021456Z
UID:3286-1777212000-1777217400@talgensoc.com
SUMMARY:The Georgia Salzburgers and Other Early Georgia Settlers with Mary Anne Price
DESCRIPTION:TGS President Mary Anne Price will talk to us about the Georgia Salzburgers and Other Early Georgia Settlers on Sunday\, April 26th. \nTime: Social time is at 1:30 and the program begins at 2. Location: The Fireside Room in the Parry Center\, 4949 Meandering Way\, at Westminster Oaks. \nDirections to the Parry Center\, 4949 Meandering Way\, at Westminster Oaks: Enter Westminster Oaks through the open gates on Dempsey Mayo\, and drive straight until you see the Parry Center on your left. Park in the Parry Center lot\, or the overflow lot just past\, on your left. There also are spaces at the Memory Care Center across the street for parking. The Parry Center may also be accessed through the Maguire Center if you would like to park in the parking garage or near the Pool House. \nImage of James Oglethorpe courtesy of the New Encyclopedia of Georgia.
URL:https://talgensoc.com/event/the-georgia-salzburgers-and-other-early-georgia-settlers-with-mary-anne-price/
ATTACH;FMTTYPE=image/png:https://talgensoc.com/wp-content/uploads/2026/03/Oglethorpe-New-GA-Encyclopedia.png
END:VEVENT
BEGIN:VEVENT
DTSTART;TZID=America/Halifax:20260524T140000
DTEND;TZID=America/Halifax:20260524T153000
DTSTAMP:20260425T111014
CREATED:20260330T014649Z
LAST-MODIFIED:20260330T014819Z
UID:3291-1779631200-1779636600@talgensoc.com
SUMMARY:No TGS Meeting in May
DESCRIPTION:The fourth Sunday in May falls on the Memorial Day Weekend\, so there is no TGS meeting due to the holiday.
URL:https://talgensoc.com/event/no-tgs-meeting-in-may/
ATTACH;FMTTYPE=image/jpeg:https://talgensoc.com/wp-content/uploads/2025/02/2023-12-Man-at-vet-cemetery-CROPPED.jpg
END:VEVENT
BEGIN:VEVENT
DTSTART;TZID=America/Halifax:20260628T140000
DTEND;TZID=America/Halifax:20260628T153000
DTSTAMP:20260425T111014
CREATED:20260330T020009Z
LAST-MODIFIED:20260330T020009Z
UID:3294-1782655200-1782660600@talgensoc.com
SUMMARY:Bound For Glory with Author Rose Marie Worley
DESCRIPTION:Join us on Sunday\, June 28th\, 2026 when author Rose Marie Worley will tell us about her new book Bound For Glory. \nTime: Social time is at 1:30 and the program begins at 2. Location: The Fireside Room in the Parry Center\, 4949 Meandering Way\, at Westminster Oaks. \nDirections to the Parry Center\, 4949 Meandering Way\, at Westminster Oaks: Enter Westminster Oaks through the open gates on Dempsey Mayo\, and drive straight until you see the Parry Center on your left. Park in the Parry Center lot\, or the overflow lot just past\, on your left. There also are spaces at the Memory Care Center across the street for parking. The Parry Center may also be accessed through the Maguire Center if you would like to park in the parking garage or near the Pool House.
URL:https://talgensoc.com/event/bound-for-glory-with-author-rose-marie-worley/
ATTACH;FMTTYPE=image/png:https://talgensoc.com/wp-content/uploads/2024/08/tree.png
END:VEVENT
BEGIN:VEVENT
DTSTART;TZID=America/Halifax:20260726T140000
DTEND;TZID=America/Halifax:20260726T153000
DTSTAMP:20260425T111014
CREATED:20260330T021112Z
LAST-MODIFIED:20260330T021510Z
UID:3297-1785074400-1785079800@talgensoc.com
SUMMARY:The Westcott Family History\, Volume I With Author Christine Emmanuel
DESCRIPTION:Author Christine Emmanuel will tell us about her new book The Westcott Family History\, Volume I on Sunday\, July 26th\, 2026. Please plan to join us. \nTime: Social time is at 1:30 and the program begins at 2. Location: The Fireside Room in the Parry Center\, 4949 Meandering Way\, at Westminster Oaks. \nDirections to the Parry Center\, 4949 Meandering Way\, at Westminster Oaks: Enter Westminster Oaks through the open gates on Dempsey Mayo\, and drive straight until you see the Parry Center on your left. Park in the Parry Center lot\, or the overflow lot just past\, on your left. There also are spaces at the Memory Care Center across the street for parking. The Parry Center may also be accessed through the Maguire Center if you would like to park in the parking garage or near the Pool House.
URL:https://talgensoc.com/event/the-westcott-family-history-volume-i-with-author-christine-emmanuel/
ATTACH;FMTTYPE=image/png:https://talgensoc.com/wp-content/uploads/2026/03/Screenshot-2026-03-29-220656.png
END:VEVENT
BEGIN:VEVENT
DTSTART;TZID=America/Halifax:20260823T140000
DTEND;TZID=America/Halifax:20260823T153000
DTSTAMP:20260425T111014
CREATED:20260330T022006Z
LAST-MODIFIED:20260330T022006Z
UID:3302-1787493600-1787499000@talgensoc.com
SUMMARY:Breaking Down Brick Walls: A Panel Discussion
DESCRIPTION:Our annual panel\, Breaking Down Brick Walls\, will take place at our meeting on Sunday\, August 23rd. This is an event our members look forward to every August. \nTime: Social time is at 1:30 and the program begins at 2. Location: The Fireside Room in the Parry Center\, 4949 Meandering Way\, at Westminster Oaks. \nDirections to the Parry Center\, 4949 Meandering Way\, at Westminster Oaks: Enter Westminster Oaks through the open gates on Dempsey Mayo\, and drive straight until you see the Parry Center on your left. Park in the Parry Center lot\, or the overflow lot just past\, on your left. There also are spaces at the Memory Care Center across the street for parking. The Parry Center may also be accessed through the Maguire Center if you would like to park in the parking garage or near the Pool House.
URL:https://talgensoc.com/event/breaking-down-brick-walls-a-panel-discussion/
ATTACH;FMTTYPE=image/jpeg:https://talgensoc.com/wp-content/uploads/2024/10/get-involved.jpg
END:VEVENT
BEGIN:VEVENT
DTSTART;TZID=America/Halifax:20260927T080000
DTEND;TZID=America/Halifax:20260927T170000
DTSTAMP:20260425T111014
CREATED:20260330T022246Z
LAST-MODIFIED:20260330T022246Z
UID:3304-1790496000-1790528400@talgensoc.com
SUMMARY:Topic: To Be Announced
DESCRIPTION:Sunday\, September 27th: Speaker and topic to be announced.
URL:https://talgensoc.com/event/topic-to-be-announced/
ATTACH;FMTTYPE=image/png:https://talgensoc.com/wp-content/uploads/2024/08/tree.png
END:VEVENT
BEGIN:VEVENT
DTSTART;TZID=America/Halifax:20261025T140000
DTEND;TZID=America/Halifax:20261025T153000
DTSTAMP:20260425T111014
CREATED:20260330T022517Z
LAST-MODIFIED:20260330T022517Z
UID:3306-1792936800-1792942200@talgensoc.com
SUMMARY:Topic: To be announced
DESCRIPTION:Sunday\, October 25th: Topic and speaker to be announced.
URL:https://talgensoc.com/event/topic-to-be-announced-2/
ATTACH;FMTTYPE=image/png:https://talgensoc.com/wp-content/uploads/2024/08/tree.png
END:VEVENT
BEGIN:VEVENT
DTSTART;TZID=America/Halifax:20261122T140000
DTEND;TZID=America/Halifax:20261122T153000
DTSTAMP:20260425T111014
CREATED:20260330T023522Z
LAST-MODIFIED:20260330T023522Z
UID:3308-1795356000-1795361400@talgensoc.com
SUMMARY:Annual Business Meeting and Holiday Party
DESCRIPTION:Our annual end-of-the year business meeting and holiday party will be held on Sunday\, November 22nd. The business meeting is very short with end-of-the-year reports by board members and the election of new officers. This is followed by a party\, which is a great time for our members to enjoy some refreshments and socialize with one another. \nTime: Social time is at 1:30 and the program begins at 2. Location: The Fireside Room in the Parry Center\, 4949 Meandering Way\, at Westminster Oaks. \nDirections to the Parry Center\, 4949 Meandering Way\, at Westminster Oaks: Enter Westminster Oaks through the open gates on Dempsey Mayo\, and drive straight until you see the Parry Center on your left. Park in the Parry Center lot\, or the overflow lot just past\, on your left. There also are spaces at the Memory Care Center across the street for parking. The Parry Center may also be accessed through the Maguire Center if you would like to park in the parking garage or near the Pool House.
URL:https://talgensoc.com/event/annual-business-meeting-and-holiday-party/
ATTACH;FMTTYPE=image/jpeg:https://talgensoc.com/wp-content/uploads/2026/03/IMG_5495-1.jpeg
END:VEVENT
BEGIN:VEVENT
DTSTART;TZID=America/Halifax:20261227T140000
DTEND;TZID=America/Halifax:20261227T153000
DTSTAMP:20260425T111014
CREATED:20260330T024613Z
LAST-MODIFIED:20260330T024613Z
UID:3311-1798380000-1798385400@talgensoc.com
SUMMARY:No TGS Meeting in December: Happy Holidays!
DESCRIPTION:Due to the winter holidays\, there will be no TGS meeting in December.
URL:https://talgensoc.com/event/no-tgs-meeting-in-december-happy-holidays/
ATTACH;FMTTYPE=image/jpeg:https://talgensoc.com/wp-content/uploads/2026/03/PC16193.jpg
END:VEVENT
END:VCALENDAR