BEGIN:VCALENDAR
VERSION:2.0
PRODID:-//Tallahassee Genealogical Society - ECPv6.15.20//NONSGML v1.0//EN
CALSCALE:GREGORIAN
METHOD:PUBLISH
X-WR-CALNAME:Tallahassee Genealogical Society
X-ORIGINAL-URL:https://talgensoc.com
X-WR-CALDESC:Events for Tallahassee Genealogical Society
REFRESH-INTERVAL;VALUE=DURATION:PT1H
X-Robots-Tag:noindex
X-PUBLISHED-TTL:PT1H
BEGIN:VTIMEZONE
TZID:America/Halifax
BEGIN:DAYLIGHT
TZOFFSETFROM:-0400
TZOFFSETTO:-0300
TZNAME:ADT
DTSTART:20240310T060000
END:DAYLIGHT
BEGIN:STANDARD
TZOFFSETFROM:-0300
TZOFFSETTO:-0400
TZNAME:AST
DTSTART:20241103T050000
END:STANDARD
BEGIN:DAYLIGHT
TZOFFSETFROM:-0400
TZOFFSETTO:-0300
TZNAME:ADT
DTSTART:20250309T060000
END:DAYLIGHT
BEGIN:STANDARD
TZOFFSETFROM:-0300
TZOFFSETTO:-0400
TZNAME:AST
DTSTART:20251102T050000
END:STANDARD
BEGIN:DAYLIGHT
TZOFFSETFROM:-0400
TZOFFSETTO:-0300
TZNAME:ADT
DTSTART:20260308T060000
END:DAYLIGHT
BEGIN:STANDARD
TZOFFSETFROM:-0300
TZOFFSETTO:-0400
TZNAME:AST
DTSTART:20261101T050000
END:STANDARD
BEGIN:DAYLIGHT
TZOFFSETFROM:-0400
TZOFFSETTO:-0300
TZNAME:ADT
DTSTART:20270314T060000
END:DAYLIGHT
BEGIN:STANDARD
TZOFFSETFROM:-0300
TZOFFSETTO:-0400
TZNAME:AST
DTSTART:20271107T050000
END:STANDARD
END:VTIMEZONE
BEGIN:VTIMEZONE
TZID:UTC
BEGIN:STANDARD
TZOFFSETFROM:+0000
TZOFFSETTO:+0000
TZNAME:UTC
DTSTART:20240101T000000
END:STANDARD
END:VTIMEZONE
BEGIN:VEVENT
DTSTART;TZID=America/Halifax:20261025T140000
DTEND;TZID=America/Halifax:20261025T153000
DTSTAMP:20260425T123437
CREATED:20260330T022517Z
LAST-MODIFIED:20260330T022517Z
UID:3306-1792936800-1792942200@talgensoc.com
SUMMARY:Topic: To be announced
DESCRIPTION:Sunday\, October 25th: Topic and speaker to be announced.
URL:https://talgensoc.com/event/topic-to-be-announced-2/
ATTACH;FMTTYPE=image/png:https://talgensoc.com/wp-content/uploads/2024/08/tree.png
END:VEVENT
BEGIN:VEVENT
DTSTART;TZID=America/Halifax:20260927T080000
DTEND;TZID=America/Halifax:20260927T170000
DTSTAMP:20260425T123437
CREATED:20260330T022246Z
LAST-MODIFIED:20260330T022246Z
UID:3304-1790496000-1790528400@talgensoc.com
SUMMARY:Topic: To Be Announced
DESCRIPTION:Sunday\, September 27th: Speaker and topic to be announced.
URL:https://talgensoc.com/event/topic-to-be-announced/
ATTACH;FMTTYPE=image/png:https://talgensoc.com/wp-content/uploads/2024/08/tree.png
END:VEVENT
BEGIN:VEVENT
DTSTART;TZID=America/Halifax:20260823T140000
DTEND;TZID=America/Halifax:20260823T153000
DTSTAMP:20260425T123437
CREATED:20260330T022006Z
LAST-MODIFIED:20260330T022006Z
UID:3302-1787493600-1787499000@talgensoc.com
SUMMARY:Breaking Down Brick Walls: A Panel Discussion
DESCRIPTION:Our annual panel\, Breaking Down Brick Walls\, will take place at our meeting on Sunday\, August 23rd. This is an event our members look forward to every August. \nTime: Social time is at 1:30 and the program begins at 2. Location: The Fireside Room in the Parry Center\, 4949 Meandering Way\, at Westminster Oaks. \nDirections to the Parry Center\, 4949 Meandering Way\, at Westminster Oaks: Enter Westminster Oaks through the open gates on Dempsey Mayo\, and drive straight until you see the Parry Center on your left. Park in the Parry Center lot\, or the overflow lot just past\, on your left. There also are spaces at the Memory Care Center across the street for parking. The Parry Center may also be accessed through the Maguire Center if you would like to park in the parking garage or near the Pool House.
URL:https://talgensoc.com/event/breaking-down-brick-walls-a-panel-discussion/
ATTACH;FMTTYPE=image/jpeg:https://talgensoc.com/wp-content/uploads/2024/10/get-involved.jpg
END:VEVENT
BEGIN:VEVENT
DTSTART;TZID=America/Halifax:20260726T140000
DTEND;TZID=America/Halifax:20260726T153000
DTSTAMP:20260425T123437
CREATED:20260330T021112Z
LAST-MODIFIED:20260330T021510Z
UID:3297-1785074400-1785079800@talgensoc.com
SUMMARY:The Westcott Family History\, Volume I With Author Christine Emmanuel
DESCRIPTION:Author Christine Emmanuel will tell us about her new book The Westcott Family History\, Volume I on Sunday\, July 26th\, 2026. Please plan to join us. \nTime: Social time is at 1:30 and the program begins at 2. Location: The Fireside Room in the Parry Center\, 4949 Meandering Way\, at Westminster Oaks. \nDirections to the Parry Center\, 4949 Meandering Way\, at Westminster Oaks: Enter Westminster Oaks through the open gates on Dempsey Mayo\, and drive straight until you see the Parry Center on your left. Park in the Parry Center lot\, or the overflow lot just past\, on your left. There also are spaces at the Memory Care Center across the street for parking. The Parry Center may also be accessed through the Maguire Center if you would like to park in the parking garage or near the Pool House.
URL:https://talgensoc.com/event/the-westcott-family-history-volume-i-with-author-christine-emmanuel/
ATTACH;FMTTYPE=image/png:https://talgensoc.com/wp-content/uploads/2026/03/Screenshot-2026-03-29-220656.png
END:VEVENT
BEGIN:VEVENT
DTSTART;TZID=America/Halifax:20260628T140000
DTEND;TZID=America/Halifax:20260628T153000
DTSTAMP:20260425T123437
CREATED:20260330T020009Z
LAST-MODIFIED:20260330T020009Z
UID:3294-1782655200-1782660600@talgensoc.com
SUMMARY:Bound For Glory with Author Rose Marie Worley
DESCRIPTION:Join us on Sunday\, June 28th\, 2026 when author Rose Marie Worley will tell us about her new book Bound For Glory. \nTime: Social time is at 1:30 and the program begins at 2. Location: The Fireside Room in the Parry Center\, 4949 Meandering Way\, at Westminster Oaks. \nDirections to the Parry Center\, 4949 Meandering Way\, at Westminster Oaks: Enter Westminster Oaks through the open gates on Dempsey Mayo\, and drive straight until you see the Parry Center on your left. Park in the Parry Center lot\, or the overflow lot just past\, on your left. There also are spaces at the Memory Care Center across the street for parking. The Parry Center may also be accessed through the Maguire Center if you would like to park in the parking garage or near the Pool House.
URL:https://talgensoc.com/event/bound-for-glory-with-author-rose-marie-worley/
ATTACH;FMTTYPE=image/png:https://talgensoc.com/wp-content/uploads/2024/08/tree.png
END:VEVENT
BEGIN:VEVENT
DTSTART;TZID=America/Halifax:20260524T140000
DTEND;TZID=America/Halifax:20260524T153000
DTSTAMP:20260425T123437
CREATED:20260330T014649Z
LAST-MODIFIED:20260330T014819Z
UID:3291-1779631200-1779636600@talgensoc.com
SUMMARY:No TGS Meeting in May
DESCRIPTION:The fourth Sunday in May falls on the Memorial Day Weekend\, so there is no TGS meeting due to the holiday.
URL:https://talgensoc.com/event/no-tgs-meeting-in-may/
ATTACH;FMTTYPE=image/jpeg:https://talgensoc.com/wp-content/uploads/2025/02/2023-12-Man-at-vet-cemetery-CROPPED.jpg
END:VEVENT
BEGIN:VEVENT
DTSTART;TZID=America/Halifax:20260426T140000
DTEND;TZID=America/Halifax:20260426T153000
DTSTAMP:20260425T123437
CREATED:20260330T014316Z
LAST-MODIFIED:20260330T021456Z
UID:3286-1777212000-1777217400@talgensoc.com
SUMMARY:The Georgia Salzburgers and Other Early Georgia Settlers with Mary Anne Price
DESCRIPTION:TGS President Mary Anne Price will talk to us about the Georgia Salzburgers and Other Early Georgia Settlers on Sunday\, April 26th. \nTime: Social time is at 1:30 and the program begins at 2. Location: The Fireside Room in the Parry Center\, 4949 Meandering Way\, at Westminster Oaks. \nDirections to the Parry Center\, 4949 Meandering Way\, at Westminster Oaks: Enter Westminster Oaks through the open gates on Dempsey Mayo\, and drive straight until you see the Parry Center on your left. Park in the Parry Center lot\, or the overflow lot just past\, on your left. There also are spaces at the Memory Care Center across the street for parking. The Parry Center may also be accessed through the Maguire Center if you would like to park in the parking garage or near the Pool House. \nImage of James Oglethorpe courtesy of the New Encyclopedia of Georgia.
URL:https://talgensoc.com/event/the-georgia-salzburgers-and-other-early-georgia-settlers-with-mary-anne-price/
ATTACH;FMTTYPE=image/png:https://talgensoc.com/wp-content/uploads/2026/03/Oglethorpe-New-GA-Encyclopedia.png
END:VEVENT
BEGIN:VEVENT
DTSTART;TZID=America/Halifax:20260322T140000
DTEND;TZID=America/Halifax:20260322T150000
DTSTAMP:20260425T123437
CREATED:20260124T225058Z
LAST-MODIFIED:20260124T225058Z
UID:3270-1774188000-1774191600@talgensoc.com
SUMMARY:Sharing My Family History Research At Tulietaylor.com
DESCRIPTION:On March 22nd\, Tulie Taylor will talk to us about her website at tulietaylor.com and why she shares her family history research online. \nTime: Social time is at 1:30 and the program begins at 2. Location: The Fireside Room in the Parry Center\, 4949 Meandering Way\, at Westminster Oaks. \nDirections to the Parry Center\, 4949 Meandering Way\, at Westminster Oaks: Enter Westminster Oaks through the open gates on Dempsey Mayo\, and drive straight until you see the Parry Center on your left. Park in the Parry Center lot\, or the overflow lot just past\, on your left. There also are spaces at the Memory Care Center across the street for parking. The Parry Center may also be accessed through the Maguire Center if you would like to park in the parking garage or near the Pool House.
URL:https://talgensoc.com/event/sharing-my-family-history-research-at-tulietaylor-com/
ATTACH;FMTTYPE=image/png:https://talgensoc.com/wp-content/uploads/2026/01/Casey-1896-Sarah-Joe.png
END:VEVENT
BEGIN:VEVENT
DTSTART;TZID=America/Halifax:20260222T140000
DTEND;TZID=America/Halifax:20260222T153000
DTSTAMP:20260425T123437
CREATED:20260124T212841Z
LAST-MODIFIED:20260125T004111Z
UID:3264-1771768800-1771774200@talgensoc.com
SUMMARY:A Case Study of Illegitimacy in mid 1880s Indiana with Linda Mabry
DESCRIPTION:Please join TGS on Sunday\, February 22nd at 2 pm to hear Linda Mabry’s  presentation: A Case Study of Illegitimacy in mid-1880s Indiana. \nTime: Social time is at 1:30 and the program begins at 2. Location: The Fireside Room in the Parry Center\, 4949 Meandering Way\, at Westminster Oaks. \nDirections to the Parry Center\, 4949 Meandering Way\, at Westminster Oaks: Enter Westminster Oaks through the open gates on Dempsey Mayo\, and drive straight until you see the Parry Center on your left. Park in the Parry Center lot\, or the overflow lot just past\, on your left. There also are spaces at the Memory Care Center across the street for parking. The Parry Center may also be accessed through the Maguire Center if you would like to park in the parking garage or near the Pool House.
URL:https://talgensoc.com/event/a-case-study-of-illegitimacy-in-mid-1880s-indiana-with-linda-mabry/
ATTACH;FMTTYPE=image/png:https://talgensoc.com/wp-content/uploads/2026/01/Screenshot-2026-01-24-194001.png
END:VEVENT
BEGIN:VEVENT
DTSTART;TZID=America/Halifax:20260125T140000
DTEND;TZID=America/Halifax:20260125T153000
DTSTAMP:20260425T123437
CREATED:20260104T011554Z
LAST-MODIFIED:20260105T180434Z
UID:3255-1769349600-1769355000@talgensoc.com
SUMMARY:The Mayflower Society with Karen Sheffield
DESCRIPTION:At our January 25th meeting\, TGS member Karen Sheffield will speak to us about the Mayflower Society and the Mayflower Pilgrims. Karen is the Governor of the Edward Winslow Chapter\, Colony of Tallahassee\, Society of Mayflower Descendants. \nTime: Social time is at 1:30 and the program begins at 2. Location: The Fireside Room in the Parry Center\, 4949 Meandering Way\, at Westminster Oaks. (The Parry Center may also be accessed through the Maguire Center if you would like to park in the parking garage or near the Pool House.)
URL:https://talgensoc.com/event/sunday-january-25th-2026-the-mayflower-society/
ATTACH;FMTTYPE=image/png:https://talgensoc.com/wp-content/uploads/2026/01/Screenshot-2026-01-02-140011.png
END:VEVENT
BEGIN:VEVENT
DTSTART;TZID=America/Halifax:20251228T140000
DTEND;TZID=America/Halifax:20251228T153000
DTSTAMP:20260425T123437
CREATED:20250324T170725Z
LAST-MODIFIED:20250324T171156Z
UID:3196-1766930400-1766935800@talgensoc.com
SUMMARY:No TGS Meeting In December
DESCRIPTION:There will be no TGS monthly meeting in December. Our next monthly meeting will be on Sunday\, January 25th\, 2026. \nImage credit: Poinsettias in Bloom\, Florida courtesy of Florida Memory\, Florida State Library and Archives at https://floridamemory.com/items/show/334570 \n 
URL:https://talgensoc.com/event/no-tgs-meeting-in-december/
ATTACH;FMTTYPE=image/jpeg:https://talgensoc.com/wp-content/uploads/2025/03/1948-Poinsettas-in-Bloom-at-Cypress-Gardens-1000-638.jpg
END:VEVENT
BEGIN:VEVENT
DTSTART;TZID=America/Halifax:20251204T140000
DTEND;TZID=America/Halifax:20251204T170000
DTSTAMP:20260425T123437
CREATED:20251114T205606Z
LAST-MODIFIED:20251125T135554Z
UID:3240-1764856800-1764867600@talgensoc.com
SUMMARY:Thurs.\, Dec. 4\, 2025: Family Tree Maker Tallahassee Event
DESCRIPTION:Family Tree Maker is coming to Florida! Join us for a special program covering the latest FTM 2024 features\, usage tips\, tree management and more\, with plenty of time for Q&A. Should you need help with FTM\, bring your computer with you for individual hands-on assistance! In the coming weeks\, more specific details will come via the Family Tree Maker calendar page: www.familytreemaker.com/calendar \, as well as via email to Family Tree Maker customers. \nAlthough this is a free event\, advance registration via Eventbrite is required for planning purposes. \nThursday\, December 4 – Tallahassee \nTime: 2:00 – 5:00 PM \nEvent: Tallahassee Area Event \nVenue: Woodville Community Center\, 8000 Old Woodville Road\, Tallahassee\, FL 32305 \nCapacity: 126 \nEventbrite Link: https://www.eventbrite.com/e/1761088947449?aff=oddtdtcreator \nPartner Society: Tallahassee Genealogical Society
URL:https://talgensoc.com/event/dec-4-2025-family-tree-maker-tallahassee-event/
ATTACH;FMTTYPE=image/png:https://talgensoc.com/wp-content/uploads/2025/11/2025-12-4-Woodville-Comm-Cntr-Fam-Tree-Mkr-event.png
END:VEVENT
BEGIN:VEVENT
DTSTART;TZID=America/Halifax:20251123T140000
DTEND;TZID=America/Halifax:20251123T153000
DTSTAMP:20260425T123437
CREATED:20250324T164933Z
LAST-MODIFIED:20250725T002505Z
UID:3191-1763906400-1763911800@talgensoc.com
SUMMARY:TGS November Meeting: End-of-the-year business meeting and party
DESCRIPTION:Our last meeting of the year\, scheduled for Sunday\, November 23rd\, will be a short business meeting with officer elections followed by a party. This is a great time to socialize and talk about your family history research with other TGS members. \nTime: Social time is at 1:30 and the program begins at 2. \nLocation: The Fireside Room in the Parry Center at Westminster Oaks. (The Parry Center may also be accessed through the Maguire Center if you would like to park in the parking garage or near the Pool House.) \n  \n  \n 
URL:https://talgensoc.com/event/no-tgs-meeting-in-november-thanksgiving-weekend/
ATTACH;FMTTYPE=image/jpeg:https://talgensoc.com/wp-content/uploads/2025/03/2023-12-3-TGS-at-Westminster-Pool-House-photo-no-1-1000-750.jpg
END:VEVENT
BEGIN:VEVENT
DTSTART;TZID=America/Halifax:20251026T140000
DTEND;TZID=America/Halifax:20251026T153000
DTSTAMP:20260425T123437
CREATED:20250324T160841Z
LAST-MODIFIED:20251006T194428Z
UID:3186-1761487200-1761492600@talgensoc.com
SUMMARY:TGS October Meeting: Putting the French (Germans and Swiss\, too) in Tallahassee's Frenchtown Narrative
DESCRIPTION:TGS is pleased to announce that Anna Burnley will talk to us about Tallahassee’s French\, German\, and Swiss heritage on Sunday\, October 26. Please join us! \nTime: Social time is at 1:30 and the program begins at 2. \nLocation: The Fireside Room in the Parry Center at Westminster Oaks. (The Parry Center may also be accessed through the Maguire Center if you would like to park in the parking garage or near the Pool House.)
URL:https://talgensoc.com/event/tgs-october-meeting-short-business-meeting-officer-elections-and-party/
ATTACH;FMTTYPE=image/png:https://talgensoc.com/wp-content/uploads/2025/03/2025-10-Anna-Burnley-from-Alliance-Francaise.png
END:VEVENT
BEGIN:VEVENT
DTSTART;TZID=America/Halifax:20250928T140000
DTEND;TZID=America/Halifax:20250928T153000
DTSTAMP:20260425T123437
CREATED:20250324T155110Z
LAST-MODIFIED:20250324T172554Z
UID:3183-1759068000-1759073400@talgensoc.com
SUMMARY:TGS September Meeting: Donating Family Papers and Artifacts to Archives and Museums With Tulie Taylor
DESCRIPTION:Tulie Taylor\, former TGS Board member\, will talk to us about the process of offering family papers\, photographs\, and artifacts to archives and museums. \nTime: Social time is at 1:30 and the program begins at 2. \nLocation: The Fireside Room in the Parry Center at Westminster Oaks. (The Parry Center may also be accessed through the Maguire Center if you would like to park in the parking garage or near the Pool House.)
URL:https://talgensoc.com/event/tgs-september-meeting-donating-family-papers-and-artifacts-to-archives-and-museums-with-tulie-taylor/
ATTACH;FMTTYPE=image/jpeg:https://talgensoc.com/wp-content/uploads/2025/03/2024-11-Tulie-selfie-in-backyard-750-1000.jpg
END:VEVENT
BEGIN:VEVENT
DTSTART;TZID=America/Halifax:20250824T140000
DTEND;TZID=America/Halifax:20250824T153000
DTSTAMP:20260425T123437
CREATED:20250324T150039Z
LAST-MODIFIED:20250725T003248Z
UID:3180-1756044000-1756049400@talgensoc.com
SUMMARY:TGS August Meeting: A Panel Discussion on Breaking Down Your Brick Walls
DESCRIPTION:This will be a panel discussion with Kathryn Cowdery\, Karen Sheffield\, and Linda Mabry. Mary Anne Price will moderate. Kathryn\, Karen\, and Linda will address and make suggestions for how to break through the brick walls in your family history research. \nTime: Social time is at 1:30 and the program begins at 2. \nLocation: The Fireside Room in the Parry Center at Westminster Oaks. (The Parry Center may also be accessed through the Maguire Center if you would like to park in the parking garage or near the Pool House.)
URL:https://talgensoc.com/event/tgs-august-meeting-speaker-to-be-announced/
ATTACH;FMTTYPE=image/jpeg:https://talgensoc.com/wp-content/uploads/2024/10/get-involved.jpg
END:VEVENT
BEGIN:VEVENT
DTSTART;TZID=America/Halifax:20250727T140000
DTEND;TZID=America/Halifax:20250727T153000
DTSTAMP:20260425T123437
CREATED:20250324T144458Z
LAST-MODIFIED:20250725T002307Z
UID:3178-1753624800-1753630200@talgensoc.com
SUMMARY:TGS July Meeting: “Hunting the Elusive Cash Dollar”\, Ken Hemmerly's presentation about his rogue great-grandfather.
DESCRIPTION:Please join us on Sunday\, July 27th for Ken Hemmerly’s presentation about his rogue great-grandfather. \nTime: Social time is at 1:30 and the program begins at 2. \nLocation: The Fireside Room in the Parry Center at Westminster Oaks. (The Parry Center may also be accessed through the Maguire Center if you would like to park in the parking garage or near the Pool House.)
URL:https://talgensoc.com/event/tgs-july-meeting-speaker-to-be-announced/
ATTACH;FMTTYPE=image/png:https://talgensoc.com/wp-content/uploads/2024/08/tree.png
END:VEVENT
BEGIN:VEVENT
DTSTART;TZID=America/Halifax:20250622T140000
DTEND;TZID=America/Halifax:20250622T153000
DTSTAMP:20260425T123438
CREATED:20250214T151623Z
LAST-MODIFIED:20250214T151623Z
UID:3152-1750600800-1750606200@talgensoc.com
SUMMARY:TGS June Meeting: Donna Meredith on Family History Sources in Her Book "Margaret\, The Rose of Goodwood"
DESCRIPTION:Author Donna Meredith\, editor of the Southern Literary Review\, will share how she researched and used family history resources in her book Margaret\, The Rose of Goodwood. \nTime: Social time is at 1:30 and the program begins at 2. \nLocation: The Fireside Room in the Parry Center at Westminster Oaks. (The Parry Center may also be accessed through the Maguire Center if you would like to park in the parking garage or near the Pool House.)
URL:https://talgensoc.com/event/tgs-june-meeting-donna-meredith-on-family-history-sources-in-her-book-margaret-the-rose-of-goodwood/
ATTACH;FMTTYPE=image/png:https://talgensoc.com/wp-content/uploads/2025/02/2024-Donna-Merideth-book-cover-for-Margaret-.png
END:VEVENT
BEGIN:VEVENT
DTSTART;TZID=America/Halifax:20250526T133000
DTEND;TZID=America/Halifax:20250526T133000
DTSTAMP:20260425T123438
CREATED:20250213T152229Z
LAST-MODIFIED:20250214T144417Z
UID:3140-1748266200-1748266200@talgensoc.com
SUMMARY:No TGS Meeting in May - Memorial Day Weekend
DESCRIPTION:There will be no TGS program meeting in May because the fourth Sunday falls on Memorial Day weekend.
URL:https://talgensoc.com/event/no-tgs-meeting-in-may-memorial-day-weekend/
ATTACH;FMTTYPE=image/jpeg:https://talgensoc.com/wp-content/uploads/2025/02/2023-12-Man-at-vet-cemetery-CROPPED.jpg
END:VEVENT
BEGIN:VEVENT
DTSTART;TZID=America/Halifax:20250427T140000
DTEND;TZID=America/Halifax:20250427T153000
DTSTAMP:20260425T123438
CREATED:20250210T165743Z
LAST-MODIFIED:20250214T145635Z
UID:3122-1745762400-1745767800@talgensoc.com
SUMMARY:TGS April Meeting: The US Census from 1790 to 1840 with Matthew Storey\, Florida State Archives
DESCRIPTION:Matthew Storey\, Archives Historian at the State Archives of Florida\, will talk to us about the US census from 1790\, the first year the federal census was taken\, through 1850. (Matthew spoke about land records at our June 2024 program meeting.) \nTime: Social time is at 1:30 and the program begins at 2. \nLocation: The Fireside Room in the Parry Center at Westminster Oaks. (The Parry Center may also be accessed through the Maguire Center if you would like to park in the parking garage or near the Pool House.)
URL:https://talgensoc.com/event/tgs-april-meeting-the-us-census-from-1860-to-1950-with-matthew-storey-florida-state-archives/
ATTACH;FMTTYPE=image/jpeg:https://talgensoc.com/wp-content/uploads/2025/02/2024-6-30-Matthew-Storey-speaking-with-hands-interlaced.jpg
END:VEVENT
BEGIN:VEVENT
DTSTART;TZID=America/Halifax:20250323T140000
DTEND;TZID=America/Halifax:20250323T153000
DTSTAMP:20260425T123438
CREATED:20250210T164738Z
LAST-MODIFIED:20250214T150019Z
UID:3118-1742738400-1742743800@talgensoc.com
SUMMARY:TGS March Meeting: The US Census from 1850 through 1950 with Dick Sherwin
DESCRIPTION:Former TGS Board member Dick Sherwin will present the changes in the US census from 1850 through 1950. \nTime: Social time is at 1:30 and the program starts at 2. \nLocation: The Fireside Room in the Parry Center at Westminster Oaks. (The Parry Center may also be accessed through the Maguire Center if you would like to park in the parking garage or near the Pool House.)
URL:https://talgensoc.com/event/tgs-march-meeting-the-us-census-through-1850-with-dick-sherwin/
ATTACH;FMTTYPE=image/jpeg:https://talgensoc.com/wp-content/uploads/2025/02/2023-4-23-TGS-Expo-Dick-Sherwin-cropped.jpg
END:VEVENT
BEGIN:VEVENT
DTSTART;TZID=UTC:20250223T140000
DTEND;TZID=UTC:20250223T153000
DTSTAMP:20260425T123438
CREATED:20240916T221556Z
LAST-MODIFIED:20250214T145921Z
UID:2790-1740319200-1740324600@talgensoc.com
SUMMARY:TGS February Meeting: Local Resources for Family History - You Don't Have to Leave Tallahassee with Mary Anne Price
DESCRIPTION:TGS Board member Mary Anne Price will present an overview of family history resources that are available here in Tallahassee. \nTime: Social time is at 1:30 pm and the meeting will start at 2 pm. \nLocation: The Fireside Room in the Parry Center at Westminster Oaks. (The Parry Center may also be accessed through the Maguire Center if you would like to park in the parking garage or near the Pool House.)
URL:https://talgensoc.com/event/february-meeting/
ATTACH;FMTTYPE=image/jpeg:https://talgensoc.com/wp-content/uploads/2024/09/2024-4-28-TGS-Mary-Anne-Price-podium-shot.jpg
END:VEVENT
BEGIN:VEVENT
DTSTART;TZID=UTC:20250126T140000
DTEND;TZID=UTC:20250126T153000
DTSTAMP:20260425T123438
CREATED:20240916T221354Z
LAST-MODIFIED:20250324T173046Z
UID:2786-1737900000-1737905400@talgensoc.com
SUMMARY:TGS January 26th\, 2025 Meeting
DESCRIPTION:TGS member Karen Sheffield will speak to us about the history of Jamestown and her ancestor who was among the settlers. \nTime: Social time is at 1:30 and the program begins at 2. Location: The Fireside Room in the Parry Center at Westminster Oaks. (The Parry Center may also be accessed through the Maguire Center if you would like to park in the parking garage or near the Pool House.) \n  \n 
URL:https://talgensoc.com/event/january-meeting/
LOCATION:Fireside Room at Westminster Oaks
ATTACH;FMTTYPE=image/jpeg:https://talgensoc.com/wp-content/uploads/2025/01/2025-1-26-Karen-Sheffield-with-map-of-Jamestown.jpeg
END:VEVENT
END:VCALENDAR