BEGIN:VCALENDAR
VERSION:2.0
PRODID:-//Tallahassee Genealogical Society - ECPv6.15.20//NONSGML v1.0//EN
CALSCALE:GREGORIAN
METHOD:PUBLISH
X-WR-CALNAME:Tallahassee Genealogical Society
X-ORIGINAL-URL:https://talgensoc.com
X-WR-CALDESC:Events for Tallahassee Genealogical Society
REFRESH-INTERVAL;VALUE=DURATION:PT1H
X-Robots-Tag:noindex
X-PUBLISHED-TTL:PT1H
BEGIN:VTIMEZONE
TZID:America/Halifax
BEGIN:DAYLIGHT
TZOFFSETFROM:-0400
TZOFFSETTO:-0300
TZNAME:ADT
DTSTART:20250309T060000
END:DAYLIGHT
BEGIN:STANDARD
TZOFFSETFROM:-0300
TZOFFSETTO:-0400
TZNAME:AST
DTSTART:20251102T050000
END:STANDARD
BEGIN:DAYLIGHT
TZOFFSETFROM:-0400
TZOFFSETTO:-0300
TZNAME:ADT
DTSTART:20260308T060000
END:DAYLIGHT
BEGIN:STANDARD
TZOFFSETFROM:-0300
TZOFFSETTO:-0400
TZNAME:AST
DTSTART:20261101T050000
END:STANDARD
BEGIN:DAYLIGHT
TZOFFSETFROM:-0400
TZOFFSETTO:-0300
TZNAME:ADT
DTSTART:20270314T060000
END:DAYLIGHT
BEGIN:STANDARD
TZOFFSETFROM:-0300
TZOFFSETTO:-0400
TZNAME:AST
DTSTART:20271107T050000
END:STANDARD
END:VTIMEZONE
BEGIN:VEVENT
DTSTART;TZID=America/Halifax:20260524T140000
DTEND;TZID=America/Halifax:20260524T153000
DTSTAMP:20260424T151826
CREATED:20260330T014649Z
LAST-MODIFIED:20260330T014819Z
UID:3291-1779631200-1779636600@talgensoc.com
SUMMARY:No TGS Meeting in May
DESCRIPTION:The fourth Sunday in May falls on the Memorial Day Weekend\, so there is no TGS meeting due to the holiday.
URL:https://talgensoc.com/event/no-tgs-meeting-in-may/
ATTACH;FMTTYPE=image/jpeg:https://talgensoc.com/wp-content/uploads/2025/02/2023-12-Man-at-vet-cemetery-CROPPED.jpg
END:VEVENT
END:VCALENDAR